BEGIN:VCALENDAR
VERSION:2.0
PRODID:-//VNCS - ECPv6.15.20//NONSGML v1.0//EN
CALSCALE:GREGORIAN
METHOD:PUBLISH
X-ORIGINAL-URL:https://www.vncs.ca
X-WR-CALDESC:Events for VNCS
REFRESH-INTERVAL;VALUE=DURATION:PT1H
X-Robots-Tag:noindex
X-PUBLISHED-TTL:PT1H
BEGIN:VTIMEZONE
TZID:America/Vancouver
BEGIN:DAYLIGHT
TZOFFSETFROM:-0800
TZOFFSETTO:-0700
TZNAME:PDT
DTSTART:20250309T100000
END:DAYLIGHT
BEGIN:STANDARD
TZOFFSETFROM:-0700
TZOFFSETTO:-0800
TZNAME:PST
DTSTART:20251102T090000
END:STANDARD
BEGIN:DAYLIGHT
TZOFFSETFROM:-0800
TZOFFSETTO:-0700
TZNAME:PDT
DTSTART:20260308T100000
END:DAYLIGHT
BEGIN:STANDARD
TZOFFSETFROM:-0700
TZOFFSETTO:-0800
TZNAME:PST
DTSTART:20261101T090000
END:STANDARD
BEGIN:DAYLIGHT
TZOFFSETFROM:-0800
TZOFFSETTO:-0700
TZNAME:PDT
DTSTART:20270314T100000
END:DAYLIGHT
BEGIN:STANDARD
TZOFFSETFROM:-0700
TZOFFSETTO:-0800
TZNAME:PST
DTSTART:20271107T090000
END:STANDARD
END:VTIMEZONE
BEGIN:VEVENT
DTSTART;TZID=America/Vancouver:20260705T113000
DTEND;TZID=America/Vancouver:20260705T133000
DTSTAMP:20260422T214616
CREATED:20260330T190003Z
LAST-MODIFIED:20260330T190005Z
UID:6682-1783251000-1783258200@www.vncs.ca
SUMMARY:Tanabata Family Picnic
DESCRIPTION:Details to come!
URL:https://www.vncs.ca/event/tanabata-family-picnic/
LOCATION:Esquimalt Gorge Park and Pavilion\, 1070 Tillicum Road\, Esquimalt\, BC\, V9A 2A1\, Canada
CATEGORIES:Member Only Event
END:VEVENT
END:VCALENDAR