BEGIN:VCALENDAR
VERSION:2.0
PRODID:-//VNCS - ECPv6.15.20//NONSGML v1.0//EN
CALSCALE:GREGORIAN
METHOD:PUBLISH
X-WR-CALNAME:VNCS
X-ORIGINAL-URL:https://www.vncs.ca
X-WR-CALDESC:Events for VNCS
REFRESH-INTERVAL;VALUE=DURATION:PT1H
X-Robots-Tag:noindex
X-PUBLISHED-TTL:PT1H
BEGIN:VTIMEZONE
TZID:America/Vancouver
BEGIN:DAYLIGHT
TZOFFSETFROM:-0800
TZOFFSETTO:-0700
TZNAME:PDT
DTSTART:20250309T100000
END:DAYLIGHT
BEGIN:STANDARD
TZOFFSETFROM:-0700
TZOFFSETTO:-0800
TZNAME:PST
DTSTART:20251102T090000
END:STANDARD
BEGIN:DAYLIGHT
TZOFFSETFROM:-0800
TZOFFSETTO:-0700
TZNAME:PDT
DTSTART:20260308T100000
END:DAYLIGHT
BEGIN:STANDARD
TZOFFSETFROM:-0700
TZOFFSETTO:-0800
TZNAME:PST
DTSTART:20261101T090000
END:STANDARD
BEGIN:DAYLIGHT
TZOFFSETFROM:-0800
TZOFFSETTO:-0700
TZNAME:PDT
DTSTART:20270314T100000
END:DAYLIGHT
BEGIN:STANDARD
TZOFFSETFROM:-0700
TZOFFSETTO:-0800
TZNAME:PST
DTSTART:20271107T090000
END:STANDARD
END:VTIMEZONE
BEGIN:VEVENT
DTSTART;TZID=America/Vancouver:20260412T190000
DTEND;TZID=America/Vancouver:20260412T203000
DTSTAMP:20260423T020732
CREATED:20260331T022709Z
LAST-MODIFIED:20260331T022710Z
UID:6716-1776020400-1776025800@www.vncs.ca
SUMMARY:Zoom: VNCS Board Meeting
DESCRIPTION:
URL:https://www.vncs.ca/event/zoom-vncs-board-meeting/
CATEGORIES:VNCS Board
END:VEVENT
BEGIN:VEVENT
DTSTART;TZID=America/Vancouver:20260406T190000
DTEND;TZID=America/Vancouver:20260406T203000
DTSTAMP:20260423T020732
CREATED:20260321T160405Z
LAST-MODIFIED:20260330T185544Z
UID:6620-1775502000-1775507400@www.vncs.ca
SUMMARY:Zoom: Japanese Cultural Fair Planning
DESCRIPTION:Zoom Planning meeting for the Japanese Cultural Fair
URL:https://www.vncs.ca/event/japanese-cultural-fair-planning-meeting/
END:VEVENT
BEGIN:VEVENT
DTSTART;TZID=America/Vancouver:20260329T110000
DTEND;TZID=America/Vancouver:20260329T140000
DTSTAMP:20260423T020732
CREATED:20260321T154227Z
LAST-MODIFIED:20260331T181318Z
UID:6607-1774782000-1774792800@www.vncs.ca
SUMMARY:VNCS Open House and Udon Social
DESCRIPTION:Learn more about your society and our various groups in an interactive format. \n\n\n\n10:45 amDoors OpenGet your name tag\, stamp rally passport and member survey. Find a seat and settle in.11:00 amWelcome and brief outline of the programShort video – VNCS 2025 in reviewIntroduce the groups and activities11:30 am2026 Stamp Rally begins12:00pmUdon lunch begins. We will have instructions on how to get your udon.1:00 pmTanko bushi participatory dance 1:15 pmUmikaze Sanshin – Okinawan Music 1:30 pmUminari Taiko – attendees drum off 1:45 pmStamp Rally Prizes and Survey Draw2:00 pmFinish and clean up.
URL:https://www.vncs.ca/event/vncs-open-house-and-udon-social/
LOCATION:Cook Street Activity Centre\, #1-380 Cook Street\, Victoria\, BC\, V8V 3X7\, Canada
CATEGORIES:Heritage
ORGANIZER;CN="VNCS Heritage Committee":MAILTO:nikkeiheritage@vncs.ca
END:VEVENT
BEGIN:VEVENT
DTSTART;TZID=America/Vancouver:20260322T090000
DTEND;TZID=America/Vancouver:20260322T161500
DTSTAMP:20260423T020732
CREATED:20260321T220259Z
LAST-MODIFIED:20260330T185720Z
UID:6627-1774170000-1774196100@www.vncs.ca
SUMMARY:VNCS Board of Directors - Facilitated Workshop - Strategic Planning
DESCRIPTION:This workshop day will have 2 x 3-hour facilitated planning sessions with a Lunch Break between sessions (food will be provided). JP Baker from Vantage Point will be the facilitator.  \n\n\n\nEsquimalt Rec Centre – Pioneer A Room
URL:https://www.vncs.ca/event/vncs-board-facilitated-workshop-strategic-planning/
LOCATION:Esquimalt Recreation Centre\, 527 Fraser Street\, Esquimalt\, BC\, V9A 6H6\, Canada
CATEGORIES:VNCS Board
END:VEVENT
END:VCALENDAR