BEGIN:VCALENDAR
VERSION:2.0
PRODID:-//VNCS - ECPv6.15.20//NONSGML v1.0//EN
CALSCALE:GREGORIAN
METHOD:PUBLISH
X-ORIGINAL-URL:https://www.vncs.ca
X-WR-CALDESC:Events for VNCS
REFRESH-INTERVAL;VALUE=DURATION:PT1H
X-Robots-Tag:noindex
X-PUBLISHED-TTL:PT1H
BEGIN:VTIMEZONE
TZID:America/Vancouver
BEGIN:DAYLIGHT
TZOFFSETFROM:-0800
TZOFFSETTO:-0700
TZNAME:PDT
DTSTART:20250309T100000
END:DAYLIGHT
BEGIN:STANDARD
TZOFFSETFROM:-0700
TZOFFSETTO:-0800
TZNAME:PST
DTSTART:20251102T090000
END:STANDARD
BEGIN:DAYLIGHT
TZOFFSETFROM:-0800
TZOFFSETTO:-0700
TZNAME:PDT
DTSTART:20260308T100000
END:DAYLIGHT
BEGIN:STANDARD
TZOFFSETFROM:-0700
TZOFFSETTO:-0800
TZNAME:PST
DTSTART:20261101T090000
END:STANDARD
BEGIN:DAYLIGHT
TZOFFSETFROM:-0800
TZOFFSETTO:-0700
TZNAME:PDT
DTSTART:20270314T100000
END:DAYLIGHT
BEGIN:STANDARD
TZOFFSETFROM:-0700
TZOFFSETTO:-0800
TZNAME:PST
DTSTART:20271107T090000
END:STANDARD
END:VTIMEZONE
BEGIN:VEVENT
DTSTART;TZID=America/Vancouver:20260406T190000
DTEND;TZID=America/Vancouver:20260406T203000
DTSTAMP:20260422T145644
CREATED:20260321T160405Z
LAST-MODIFIED:20260330T185544Z
UID:6620-1775502000-1775507400@www.vncs.ca
SUMMARY:Zoom: Japanese Cultural Fair Planning
DESCRIPTION:Zoom Planning meeting for the Japanese Cultural Fair
URL:https://www.vncs.ca/event/japanese-cultural-fair-planning-meeting/
END:VEVENT
BEGIN:VEVENT
DTSTART;TZID=America/Vancouver:20260412T190000
DTEND;TZID=America/Vancouver:20260412T203000
DTSTAMP:20260422T145644
CREATED:20260331T022709Z
LAST-MODIFIED:20260331T022710Z
UID:6716-1776020400-1776025800@www.vncs.ca
SUMMARY:Zoom: VNCS Board Meeting
DESCRIPTION:
URL:https://www.vncs.ca/event/zoom-vncs-board-meeting/
CATEGORIES:VNCS Board
END:VEVENT
BEGIN:VEVENT
DTSTART;TZID=America/Vancouver:20260423T150000
DTEND;TZID=America/Vancouver:20260423T160000
DTSTAMP:20260422T145644
CREATED:20260321T223252Z
LAST-MODIFIED:20260330T185636Z
UID:6650-1776956400-1776960000@www.vncs.ca
SUMMARY:The Breakwater: Book talk with Leslie Shimotakahara
DESCRIPTION:Join us for a conversation with Leslie Shimotakahara on her new novel\, The Breakwater.One morning in Toronto\, Cathy Matsumoto’s father\, Yasuo\, calls to announce he intends to visit a dying cousin in British Columbia. Cathy’s never heard of this mysterious relative before\, but she begrudgingly agrees to plan a family trip with her father and daughter\, Tessa\, to Victoria\, the hometown Yas was forcibly evicted from when Japanese Canadians were interned during World War Two.It’s only in BC that Cathy learns this “cousin” is actually Yas’s younger brother\, Stum\, who’s been languishing in psychiatric care\, abandoned\, ever since Yas committed him to Essondale Asylum before the war.Yas tries to fend off probing questions from his daughter and granddaughter\, but revisiting old haunts brings back memories of the brothers’ boyhood rivalry and coming-of-age near Victoria’s Chinatown\, when Yas’s resolve to hold their fractured family together clashed against Stum’s troublesome turn toward a life of gambling\, crime\, and consorting with prostitutes.In this heartbreaking family story\, two brothers\, both old men not far from death\, must at last confront long-buried family secrets — and their lingering effects on subsequent generations. Register here.
URL:https://www.vncs.ca/event/the-breakwater-book-talk-with-leslie-shimotakahara/
LOCATION:Virtual (Zoom)
CATEGORIES:Heritage
ORGANIZER;CN="VNCS Heritage Committee":MAILTO:nikkeiheritage@vncs.ca
END:VEVENT
BEGIN:VEVENT
DTSTART;TZID=America/Vancouver:20260427T190000
DTEND;TZID=America/Vancouver:20260427T203000
DTSTAMP:20260422T145644
CREATED:20260407T015512Z
LAST-MODIFIED:20260407T015512Z
UID:6748-1777316400-1777321800@www.vncs.ca
SUMMARY:Zoom: Japanese Cultural Fair Planning
DESCRIPTION:Zoom Planning meeting for the Japanese Cultural Fair
URL:https://www.vncs.ca/event/zoom-japanese-cultural-fair-planning/
LOCATION:Virtual (Zoom)
END:VEVENT
BEGIN:VEVENT
DTSTART;TZID=America/Vancouver:20260501T000000
DTEND;TZID=America/Vancouver:20260531T233000
DTSTAMP:20260422T145644
CREATED:20260330T185444Z
LAST-MODIFIED:20260330T185445Z
UID:6679-1777593600-1780270200@www.vncs.ca
SUMMARY:Asian Heritage Month
DESCRIPTION:Asian Heritage Month is an opportunity for us to learn more about the diverse culture and history of Asian communities in Canada\, as well as to acknowledge the many achievements and contributions of people of Asian origin who\, throughout our history\, have done so much to make Canada the country we know and love.
URL:https://www.vncs.ca/event/asian-heritage-month/
CATEGORIES:Heritage
END:VEVENT
BEGIN:VEVENT
DTSTART;TZID=America/Vancouver:20260503T110000
DTEND;TZID=America/Vancouver:20260503T130000
DTSTAMP:20260422T145644
CREATED:20260321T221543Z
LAST-MODIFIED:20260330T185624Z
UID:6640-1777806000-1777813200@www.vncs.ca
SUMMARY:Photography Workshop
DESCRIPTION:Photography Workshop with Ken Mizokoshi RSVP by May 2\, 2026 or just show up! \n\n\n\nLearn photography basics and composition strategies and principles in a beautiful setting. Camera phones are ok. We hope to see you at these and other Heritage Committee events. \n\n\n\nBYOB (Bring Your Own Bento) for a lunch social after the workshop. 
URL:https://www.vncs.ca/event/photography-workshop/
LOCATION:Royal Roads Japanese Garden\, 2005 Sooke Road\, Victoria\, BC\, V9B 5Y2\, Canada
CATEGORIES:Heritage
END:VEVENT
BEGIN:VEVENT
DTSTART;TZID=America/Vancouver:20260510T190000
DTEND;TZID=America/Vancouver:20260510T203000
DTSTAMP:20260422T145644
CREATED:20260414T015721Z
LAST-MODIFIED:20260414T015722Z
UID:6777-1778439600-1778445000@www.vncs.ca
SUMMARY:Zoom: VNCS Board Meeting
DESCRIPTION:
URL:https://www.vncs.ca/event/zoom-vncs-board-meeting-2/
LOCATION:Virtual (Zoom)
END:VEVENT
BEGIN:VEVENT
DTSTART;TZID=America/Vancouver:20260518T190000
DTEND;TZID=America/Vancouver:20260518T203000
DTSTAMP:20260422T145644
CREATED:20260407T015621Z
LAST-MODIFIED:20260407T015645Z
UID:6750-1779130800-1779136200@www.vncs.ca
SUMMARY:Zoom: Japanese Cultural Fair Planning
DESCRIPTION:Zoom Planning meeting for the Japanese Cultural Fair
URL:https://www.vncs.ca/event/zoom-japanese-cultural-fair-planning-2/
LOCATION:Virtual (Zoom)
END:VEVENT
BEGIN:VEVENT
DTSTART;TZID=America/Vancouver:20260608T190000
DTEND;TZID=America/Vancouver:20260608T203000
DTSTAMP:20260422T145644
CREATED:20260407T015733Z
LAST-MODIFIED:20260407T015734Z
UID:6753-1780945200-1780950600@www.vncs.ca
SUMMARY:Zoom: Japanese Cultural Fair Planning
DESCRIPTION:Zoom Planning meeting for the Japanese Cultural Fair
URL:https://www.vncs.ca/event/zoom-japanese-cultural-fair-planning-3/
LOCATION:Virtual (Zoom)
END:VEVENT
BEGIN:VEVENT
DTSTART;TZID=America/Vancouver:20260613T120000
DTEND;TZID=America/Vancouver:20260613T140000
DTSTAMP:20260422T145644
CREATED:20260321T221141Z
LAST-MODIFIED:20260330T185613Z
UID:6638-1781352000-1781359200@www.vncs.ca
SUMMARY:Japan Fest 2026
DESCRIPTION:
URL:https://www.vncs.ca/event/japan-fest-2026/
LOCATION:Broadmead Village\, 777 Royal Oak Drive\, Victoria\, BC\, V8X 4V1\, Canada
CATEGORIES:Japan Fest
END:VEVENT
BEGIN:VEVENT
DTSTART;TZID=America/Vancouver:20260629T190000
DTEND;TZID=America/Vancouver:20260629T203000
DTSTAMP:20260422T145644
CREATED:20260407T015824Z
LAST-MODIFIED:20260407T015825Z
UID:6755-1782759600-1782765000@www.vncs.ca
SUMMARY:Zoom: Japanese Cultural Fair Planning
DESCRIPTION:Zoom Planning meeting for the Japanese Cultural Fair
URL:https://www.vncs.ca/event/zoom-japanese-cultural-fair-planning-4/
LOCATION:Virtual (Zoom)
END:VEVENT
BEGIN:VEVENT
DTSTART;TZID=America/Vancouver:20260705T113000
DTEND;TZID=America/Vancouver:20260705T133000
DTSTAMP:20260422T145644
CREATED:20260330T190003Z
LAST-MODIFIED:20260330T190005Z
UID:6682-1783251000-1783258200@www.vncs.ca
SUMMARY:Tanabata Family Picnic
DESCRIPTION:Details to come!
URL:https://www.vncs.ca/event/tanabata-family-picnic/
LOCATION:Esquimalt Gorge Park and Pavilion\, 1070 Tillicum Road\, Esquimalt\, BC\, V9A 2A1\, Canada
CATEGORIES:Member Only Event
END:VEVENT
BEGIN:VEVENT
DTSTART;TZID=America/Vancouver:20260809T090000
DTEND;TZID=America/Vancouver:20260809T120000
DTSTAMP:20260422T145644
CREATED:20260331T153119Z
LAST-MODIFIED:20260331T153119Z
UID:6718-1786266000-1786276800@www.vncs.ca
SUMMARY:Obon Grave Washing
DESCRIPTION:The VNCS\, Victoria Japanese Friendship Society (VJFS)\, supported by the Old Cemetery Society consider it a privilege to take care of the 152 Japanese pioneer and Japanese-Canadian gravestones at Ross Bay Cemetery. Every August we gather to clean\, place flowers\, and place stuffed toys for the children’s stones. We invite anyone interested to come and join in the work parties while learning more about Japanese-Canadian history in Victoria.
URL:https://www.vncs.ca/event/obon-grave-washing/
LOCATION:Ross Bay Cemetary\, 1495 Fairfield Road\, Victoria\, BC\, V8S 1G1\, Canada
END:VEVENT
BEGIN:VEVENT
DTSTART;TZID=America/Vancouver:20260829T094500
DTEND;TZID=America/Vancouver:20260829T160000
DTSTAMP:20260422T145644
CREATED:20260321T222236Z
LAST-MODIFIED:20260330T185602Z
UID:6642-1787996700-1788019200@www.vncs.ca
SUMMARY:2026 Japanese Cultural Fair
DESCRIPTION:2026 VNCS Japanese Cultural Fair – Saturday\, August 29th
URL:https://www.vncs.ca/event/2026-japanese-cultural-fair/
LOCATION:Esquimalt Gorge Park and Pavilion\, 1070 Tillicum Road\, Esquimalt\, BC\, V9A 2A1\, Canada
CATEGORIES:Japanese Cultural Fair
END:VEVENT
END:VCALENDAR